BEGIN:VCALENDAR
METHOD:PUBLISH
BEGIN:VEVENT
DTSTAMP:20210420T212442Z
DTSTART:20170124T153000Z
DTEND:20170124T170000Z
LOCATION:BDO Luxembourg \n1 rue Jean Piret \nLuxembourg L-2350
X-ALT-DESC;FMTTYPE=text/html:<p>Conference in German</p>\n
SUMMARY:HR Update DE
PRIORITY:3
BEGIN:VALARM
TRIGGER:P0DT0H15M
ACTION:DISPLAY
DESCRIPTION:Reminder
END:VALARM
END:VEVENT
END:VCALENDAR
