BEGIN:VCALENDAR
METHOD:PUBLISH
BEGIN:VEVENT
DTSTAMP:20210420T212417Z
DTSTART:20170117T153000Z
DTEND:20170117T170000Z
LOCATION:BDO Luxembourg \n1 rue Jean Piret \nLuxembourg L-2350
X-ALT-DESC;FMTTYPE=text/html:<p>Conference in French</p>\n
SUMMARY:HR Update FR
PRIORITY:3
BEGIN:VALARM
TRIGGER:P0DT0H15M
ACTION:DISPLAY
DESCRIPTION:Reminder
END:VALARM
END:VEVENT
END:VCALENDAR
