BEGIN:VCALENDAR
METHOD:PUBLISH
BEGIN:VEVENT
DTSTAMP:20210420T212419Z
DTSTART:20170119T153000Z
DTEND:20170119T170000Z
LOCATION:BDO Luxembourg \n1 rue Jean Piret \nLuxembourg L-2350
X-ALT-DESC;FMTTYPE=text/html:<p>Conference in English</p>\n
SUMMARY:HR Update EN
PRIORITY:3
BEGIN:VALARM
TRIGGER:P0DT0H15M
ACTION:DISPLAY
DESCRIPTION:Reminder
END:VALARM
END:VEVENT
END:VCALENDAR
