BEGIN:VCALENDAR
METHOD:PUBLISH
BEGIN:VEVENT
DTSTAMP:20210420T212410Z
DTSTART:20210323T150000Z
DTEND:20210323T160000Z
X-ALT-DESC;FMTTYPE=text/html:<h2><strong>WEBINAR BDO LUXEMBOURG</strong></h2>\n\n<p><strong>Profit-Sharing Premium (prime participative)</strong></p>\n\n<hr />\n<ul>\n	<li>Tuesday 23 March 2021 from 16:00 to 17:00 (in German)</li>\n</ul>\n\n<p> </p>\n\n<p><strong>LOGIN</strong></p>\n\n<p>___________________________________________________________________________</p>\n\n<p>Microsoft Teams meeting</p>\n\n<p><strong>Join on your computer or mobile app</strong></p>\n\n<p><a href="https://teams.microsoft.com/l/meetup-join/19%3ameeting_OTgyOGFjNTUtMWNhYi00OTRkLWI3YWEtNTBiYWM3YmFkMWUz%40thread.v2/0?context=%7b%22Tid%22%3a%22e214d101-22be-487d-8812-e12c8463195a%22%2c%22Oid%22%3a%226fb132e6-5e6e-4d1f-ab74-0cd7f7dd7d79%22%7d" target="_blank">Click here to join the meeting</a></p>\n\n<p><a href="https://aka.ms/JoinTeamsMeeting" target="_blank">Learn More</a> | <a href="https://teams.microsoft.com/meetingOptions/?organizerId=6fb132e6-5e6e-4d1f-ab74-0cd7f7dd7d79&tenantId=e214d101-22be-487d-8812-e12c8463195a&threadId=19_meeting_OTgyOGFjNTUtMWNhYi00OTRkLWI3YWEtNTBiYWM3YmFkMWUz@thread.v2&messageId=0&language=en-US" target="_blank">Meeting options</a></p>\n\n<p>________________________________________________________________________________</p>\n
SUMMARY:Gewinnbeteiligungsprämie (prime participative)
PRIORITY:3
BEGIN:VALARM
TRIGGER:P0DT0H15M
ACTION:DISPLAY
DESCRIPTION:Reminder
END:VALARM
END:VEVENT
END:VCALENDAR
